BEGIN:VCALENDAR
VERSION:2.0
PRODID:-//Lodge Balgonie 764 - ECPv6.15.12.2//NONSGML v1.0//EN
CALSCALE:GREGORIAN
METHOD:PUBLISH
X-WR-CALNAME:Lodge Balgonie 764
X-ORIGINAL-URL:https://balgonie764.org.uk
X-WR-CALDESC:Events for Lodge Balgonie 764
REFRESH-INTERVAL;VALUE=DURATION:PT1H
X-Robots-Tag:noindex
X-PUBLISHED-TTL:PT1H
BEGIN:VTIMEZONE
TZID:Europe/London
BEGIN:DAYLIGHT
TZOFFSETFROM:+0000
TZOFFSETTO:+0100
TZNAME:BST
DTSTART:20250330T010000
END:DAYLIGHT
BEGIN:STANDARD
TZOFFSETFROM:+0100
TZOFFSETTO:+0000
TZNAME:GMT
DTSTART:20251026T010000
END:STANDARD
BEGIN:DAYLIGHT
TZOFFSETFROM:+0000
TZOFFSETTO:+0100
TZNAME:BST
DTSTART:20260329T010000
END:DAYLIGHT
BEGIN:STANDARD
TZOFFSETFROM:+0100
TZOFFSETTO:+0000
TZNAME:GMT
DTSTART:20261025T010000
END:STANDARD
BEGIN:DAYLIGHT
TZOFFSETFROM:+0000
TZOFFSETTO:+0100
TZNAME:BST
DTSTART:20270328T010000
END:DAYLIGHT
BEGIN:STANDARD
TZOFFSETFROM:+0100
TZOFFSETTO:+0000
TZNAME:GMT
DTSTART:20271031T010000
END:STANDARD
END:VTIMEZONE
BEGIN:VEVENT
DTSTART;TZID=Europe/London:20260424T190000
DTEND;TZID=Europe/London:20260424T230000
DTSTAMP:20260424T132219
CREATED:20260404T161807Z
LAST-MODIFIED:20260404T161807Z
UID:1777-1777057200-1777071600@balgonie764.org.uk
SUMMARY:New Members FC  Degree
DESCRIPTION:New craft members working FC degree.
URL:https://balgonie764.org.uk/event/new-members-fc-degree/
LOCATION:Lodge Minto 385\, North Street\, Lochkelly\, KY5 9NH
CATEGORIES:Meeting
END:VEVENT
BEGIN:VEVENT
DTSTART;TZID=Europe/London:20260425T130000
DTEND;TZID=Europe/London:20260425T170000
DTSTAMP:20260424T132219
CREATED:20260419T130608Z
LAST-MODIFIED:20260419T130608Z
UID:1804-1777122000-1777136400@balgonie764.org.uk
SUMMARY:PGLFK Communication
DESCRIPTION:
URL:https://balgonie764.org.uk/event/pglfk-communication/
LOCATION:Lodge Minto 385\, North Street\, Lochkelly\, KY5 9NH
CATEGORIES:Meeting
END:VEVENT
BEGIN:VEVENT
DTSTART;TZID=Europe/London:20260429T184500
DTEND;TZID=Europe/London:20260429T190000
DTSTAMP:20260424T132219
CREATED:20260419T125537Z
LAST-MODIFIED:20260419T125537Z
UID:1798-1777488300-1777489200@balgonie764.org.uk
SUMMARY:Enquiry Committee Meeting
DESCRIPTION:
URL:https://balgonie764.org.uk/event/enquiry-committee-meeting/
LOCATION:Balgonie 764\, KY7 6BD\, United Kingdom
CATEGORIES:Meeting
END:VEVENT
BEGIN:VEVENT
DTSTART;TZID=Europe/London:20260429T191500
DTEND;TZID=Europe/London:20260429T210000
DTSTAMP:20260424T132219
CREATED:20260419T124841Z
LAST-MODIFIED:20260419T124841Z
UID:1796-1777490100-1777496400@balgonie764.org.uk
SUMMARY:General Committee Meeting
DESCRIPTION:
URL:https://balgonie764.org.uk/event/general-committee-meeting/
LOCATION:Balgonie 764\, KY7 6BD\, United Kingdom
CATEGORIES:Meeting
END:VEVENT
END:VCALENDAR